Workbook
Name _____________L2: #REF!
Name _____________L2: #REF!
Name _____________L2: #REF!
Name ____________L2: #REF!
Name ____________L2: #REF!
Name ____________L2: #REF!
Name ___________L2: #REF!
Name ___________L2: #REF!
Name ___________L2: #REF!
Name ___________LM3: #REF!
Name ___________LM3: #REF!
Name ___________LM3: #REF!
Name __________ff1: #REF!
Name __________ff1: #REF!
Name __________ff1: #REF!
Name __________L2: #REF!
Name __________L2: #REF!
Name __________L2: #REF!
Name __________L3: #REF!
Name __________L3: #REF!
Name __________L3: #REF!
Name __________L4: #REF!
Name __________L4: #REF!
Name __________L4: #REF!
Name __________LM3: #REF!
Name __________LM3: #REF!
Name __________LM3: #REF!
Name _________ff1: #REF!
Name _________ff1: #REF!
Name _________ff1: #REF!
Name _________L2: #REF!
Name _________L2: #REF!
Name _________L2: #REF!
Name _________L3: #REF!
Name _________L3: #REF!
Name _________L3: #REF!
Name _________L4: #REF!
Name _________L4: #REF!
Name _________L4: #REF!
Name _________LM3: #REF!
Name _________LM3: #REF!
Name _________LM3: #REF!
Name ________ff1: #REF!
Name ________ff1: #REF!
Name ________ff1: #REF!
Name ________L2: #REF!
Name ________L2: #REF!
Name ________L2: #REF!
Name ________L3: #REF!
Name ________L3: #REF!
Name ________L3: #REF!
Name ________L4: #REF!
Name ________L4: #REF!
Name ________L4: #REF!
Name ________LM3: #REF!
Name ________LM3: #REF!
Name ________LM3: #REF!
Name _______ff1: #REF!
Name _______ff1: #REF!
Name _______ff1: #REF!

Sheet FR08001
A1: 工程文件變更通知單 Engineering Document Change Notice
A2: Foxconn Industrial Internet Co.,Ltd | Z2: NO:
A3: 文件名稱 Document name | E3: T99X171.00 ASSY SOP | R3: 文件編號 Document No. | V3: SOP-NV-AM646B1-01 | AA3: 版次. Ver. | AC3: G
A4: 文件類別 : 工程文件 Doc.Type: Engineering document | K4: 類別(Priority Level)﹕■一般(Normal □ 紧急(Urgent) | V4: 機密(Secret)﹕□ Yes ■No
A5: 變更之前-Before change description: | R5: 變更之后-After change description:
A6: Update 工程師負責 Cập nhật Kỹ sư phụ trách | R6: Update 工程師負責 Cập nhật Kỹ sư phụ trách
A13: 會簽方式 Checking method | E13: ■需要 (Unnecessary) | J13: 紙檔 (On paper) 會議( Meeting, time/location:) / | X13: 會議室(Meeting room)
A14: 會簽部門 Checking dept | E14: 部門 (Dept.) | J14: 會簽人(Check by) | L14: 描述 (Description)
A23: 分發部門 Deliver to | E23: 分發 Deliver | G23: 部門 Dept. | K23: 份數 Copy | M23: 分發 Deliver | O23: 部門 Dept. | R23: 份數 Copy | T23: 分發 Deliver | V23: 部門 Dept. | W23: 份數 Copy | Y23: 分發 Deliver | AA23: 部門 Dept. | AH23: 份數 Copy
G24: PD-F16 | K24: 1
A29: 批准 Approve | T29: 申請部門(Application Dept.) | X29: IE
A30: 工程主管(Engineering Manager) | K30: QA 主管(QA Manager) | T30: 申請部門主管 Application Dept. Manager | X30: 阮氏秋恒
A31: 黎文泰 | K31: Rachel Nguyen | T31: 申請日期 (Apply by / date) | X31: 阮氏燕 08/01/2022
A32: 保管期限(Storage life): 長期(Long time) 表單號碼(Sheet No.): FK3NVA009001C

Sheet 目錄 
A1: Foxconn Industrial Internet Co.,Ltd
A2: 系統名稱(SYSTEM): | G2: 文件名稱(DOCUMENT NAME): | N2: 文件編號(DOCUMENT NO): | T2: 版次Rev.
A3: 工程管理 Quản lí kĩ thuật | G3: T99X171.00 ASSY SOP | N3: SOP-NV-AM646B1-01 | T3: =+'FR08001'!AC3 -> G
N4: 頁次 PAGE | P4: 1 | R4: 總頁數 Total | T4: 8
B6: ******** 目錄 (Table of Contents) ********
B7: 序號 Item | C7: 內容描述 Content description | I7: 版次 Ver. | J7: 頁次 Page | L7: 序號 Item | M7: 內容描述 Content description | S7: 版次 Ver. | T7: 頁次 Page
B8: 1 | C8: ='Insert thermal pad and led pad '!D3 -> Insert themal pad & LED pad Dán tản nhiệt & tấm đệm đèn | I8: G | J8: 3
B9: 2 | C9: Put PCBA into BOT case Lắp PCBA vào nắp trên | I9: G | J9: 4
B10: 3 | C10: Put BOT case & Screw Lắp nắp dưới & Vít ốc | I10: G | J10: 5-A
B11: 4 | C11: Put BOT case & Screw Lắp nắp dưới & Vít ốc | I11: G | J11: 5-B
B12: 5 | C12: Insert protect film Dán băng bảo vệ | I12: G | J12: 6
B13: 6 | C13: Flowchart Lưu trình | I13: G | J13: 7
A31: ******** Proprietary information of Foxconn ********

Sheet 修訂履歷
A1: Foxconn Industrial Internet Co.,L
A2: 系統名稱(SYSTEM): | D2: 文件名稱(DOCUMENT NAME): | H2: 文件編號(DOCUMENT NO): | K2: 版次REV.
A3: 工程管理 Quản lí kĩ thuật | D3: T99X171.00 ASSY SOP | H3: SOP-NV-AM646B1-01 | K3: ='目錄 '!T3 -> G
H4: 頁次 PAGE | I4: 2 | J4: 總頁數 Total | K4: ='目錄 '!T4 -> 8
C6: ****** 修訂履歷( Revision History)******
B7: 版次 Rev. | C7: 工程變更通知單單號 ECN NO. | E7: 修訂履歷 Revision History | I7: 修訂人 Revision by | J7: 修訂日期 Revision date
B8: A | C8: NA | E8: The first issue Phát hành lần đầu | I8: Huyền IE | J8: 06.10.2020
B9: A1 | C9: NA | E9: Update Serial Fixture paste label KC Update mã liệu khuôn dán tem KC | I9: Huyền IE | J9: 06.26.2020
B10: B | C10: NA | E10: Update critical Cập nhật công đoạn quan trọng | I10: Huyền IE | J10: 07.15.2020
B11: B1 | C11: NA | E11: Setup station Sắp xếp lại công đoạn | I11: Huyền IE | J11: 08.08.2020
B12: C | C12: NA | E12: Update work content Cập nhật nội dung thao tác | I12: Huyền IE | J12: 12.15.2020
B13: C1 | C13: NA | E13: Update knife & picture Cập nhật dao an toàn & hình ảnh | I13: Huyền IE | J13: 01.25.2021
B14: D | C14: NA | E14: Update 工程師負責 Cập nhật Kỹ sư phụ trách | I14: Linh IE | J14: 04.25.2021
B15: E | C15: NA | E15: Update ESD picture & add flow chart Cập nhật ảnh ESD và thêm lưu trình | I15: Linh IE | J15: 07.27.2021
B16: E1 | C16: NA | E16: Update label picture Cập nhật ảnh label | I16: Linh IE | J16: 09.14.2021
B17: E2 | C17: NA | E17: Update picture and material code Cập nhật hình ảnh minh họa và mã liệu | I17: Linh IE | J17: 11.16.2021
B18: E3 | C18: NA | E18: Update work content Cập nhật nội dung thao tác | I18: Linh IE | J18: 02.13.2022
... B20: G | C20: NA | E20: Update 工程師負責 Cập nhật Kỹ sư phụ trách | I20: Yến IE | J20: 08.01.2022
A28: ******** Proprietary information of Foxconn ********

Sheet Insert thermal pad and led pad 
A1: FOXCONN INDUSTRIAL INTERNET CO.,LTD
A2: 標準作業規范 QUI ĐỊNH THAO TÁC TIÊU CHUẨN
A3: 適用產品 Sản phẩm | B3: T99X171.00 (BFX-AT100) | C3: 工站名稱 Công đoạn | D3: Insert themal pad & LED pad Dán tản nhiệt & tấm đệm đèn | F3: 規 範 編 號 Mã tài liệu | H3: SOP-NV-AM646B1-01 | K3: 版次 Phiên bản | N3: G | O3: 頁次 Trang | P3: 3
A4: ※ 使用設備(治工具)Thiết bị, dụng cụ | F4: ※ 圖示 Hình minh họa
A5: STT | B5: 使用設備(治工具) Thiết bị, dụng cụ | C5: 編號 Mã | D5: Q'ty | E5: 備註 Chú thích
A6: 1 | B6: Ion Fan. Quạt Ion | C6: NA | D6: 1 | E6: NA
A7: 2 | B7: Fixture. Khuôn | C7: A-99171-XXX-A | D7: 1 | E7: NA
A8: ※作業步驟 Nội dung thao tác
A9: 1. From the material box, take the upper cover and peel of the PE bag.
A10: Then check the cover and ensure that have no scratches, dirt, others visual errors. (H1)
A11: Từ thùng đựng liệu, lấy vỏ nắp trên của sản phẩm, tháo túi PE, sau đó kiểm tra,
A12: xác nhận vỏ không bị xước, bẩn và một số lỗi ngoại quan khác (H1).
A13: Check Logo printed on the surface of the cover: NUGU, Btv, CH. (see H1)
A14: Kiểm tra 3 logo "NUGU" "Btv" "CH" in nổi trên Housing đã đúng chưa. (H.1.)
A15: 2. Put product into fixture, close fixture cover as H2.
A16: Đặt nắp trên vào khuôn, đậy nắp khuôn lại như H2 minh họa.
A17: 3. Stick the LED pad and the thermal pad on the location shown as H2 & H3
A18: Pay attention to the across edge matched with the across edge of housing. (H4)
A19: The thermal pad is applied on the defined location, must not be askew.
... A33: Trước khi làm việc phải đối chiếu vật liệu (mã liệu, quy cách...) với SOP.
F34: ※ 使用材料(零件明細表) Bảng chi tiết các vật liệu sử dụng
A35: 4. Owner/ Kĩ sư phụ trách | G35: P/N | J35: Specification | N35: Q'ty | O35: Class
A36: 部門 Bộ phận | B36: 名稱 Tên kĩ sư phụ trách | C36: 聯絡方式 Phương thức liên lạc | F36: 1 | G36: 441.00896.015 | J36: TOP CASE ASS’Y 95.05*95.05mm REV.02 | N36: 1 | O36: Top case. Vỏ trên
F37: 2 | G37: 484.00300.005 | J37: SPONGE 16.32*7.96*1.5mmmm REV.01 GP/ | N37: 1 | O37: Sponge. Tấm đệm đèn
A38: IE | B38: Nguyễn Thị Yến | C38: 0337278797 | F38: 3 | G38: 480.01351.005 | J38: THERMAL PAD 13*13*1.5mm REV.01 SC40 | N38: 1 | O38: Thermal pad. Tản nhiệt
A39: PQE | B39: Nguyễn Thị Hằng | C39: 0335578615 | M39: Standard time | O39: 12sec (CT=12sec)
A40: ME | B40: Nguyễn Quang Huy | C40: 0354644354

Sheet Put PCBA Into TOP case
A1: FOXCONN INDUSTRIAL INTERNET CO.,LTD
A2: 標準作業規范 QUI ĐỊNH THAO TÁC TIÊU CHUẨN
A3: 適用產品 Sản phẩm | B3: T99X171.00 (BFX-AT100) | C3: 工站名稱 Công đoạn | D3: Put PCBA into TOP case Lắp PCBA vào nắp trên | F3: 規 範 編 號 Mã tài liệu | H3: SOP-NV-AM646B1-01 | K3: 版次 Phiên bản | N3: G | O3: 頁次 Trang | P3: 4
A4: ※ 使用設備(治工具)Thiết bị, dụng cụ | F4: ※ 圖示 Hình minh họa
A5: STT | B5: 使用設備(治工具) Thiết bị, dụng cụ | C5: 編號 Mã | D5: Q'ty | E5: 備註 Chú thích
A6: 1 | B6: Ion Fan Quạt Ion | C6: NA | D6: 1 | E6: NA
A7: ※作業步驟 Nội dung thao tác
A8: 1. From the conveyor, take the TOP case that stick the thermal pad and LED pad and
A9: place it on the table. Visually inspect and ensure that have no scratches, dirt, and
A10: other errors; the thermal pad and the LED pad are stick on the right location shown as H1;
A11: not be askew,deviation,lack of (H3). Check three logos NUGU, Btv, CH on the surface of the top cover shown as H2.
A12: Từ băng chuyền, lấy vỏ nắp trên của sản phẩm đã được dán tấm tản nhiệt và tấm đệm đèn
A13: đặt lên bàn thao tác. Sau đó kiểm tra, xác nhận vỏ không bị xước, bẩn và một số lỗi ngoại quan khác
A14: Tấm đệm đèn và tấm tản nhiệt đã được dán đúng vào vị trí quy định như H.1,
A15: không có hiện tượng nghiêng, lệch, thiếu (H3). Kiểm tra 3 logo "NUGU" "Btv" "CH" đã đúng như H.2.
A16: 2. Take PCBA, check and ensure that have no broken components, damaged…
A17: Then on the table, apply in the top case, BOT side is upward. (H4)
A18: After finishing, check ports and ensure that have no dirt, it's disformed pins
... A40: 4. Owner/ Kĩ sư phụ trách
A41: 部門 Bộ phận | B41: 名稱 Tên kĩ sư phụ trách | C41: 聯絡方式 Phương thức liên lạc | F41: ※ 使用材料(零件明細表) Bảng chi tiết các vật liệu sử dụng
G42: P/N | J42: Specification | N42: Q'ty | O42: Class
A43: IE | B43: ='Insert thermal pad and led pad '!B38 -> Nguyễn Thị Yến | C43: ='Insert thermal pad and led pad '!C38 -> 0337278797 | F43: 1 | G43: T99X171T00 | J43: IP Set-Top Box AML S905X2 OTT with M | N43: 1 | O43: PCBA
A44: PQE | B44: ='Insert thermal pad and led pad '!B39 -> Nguyễn Thị Hằng | C44: ='Insert thermal pad and led pad '!C39 -> 0335578615 | M44: Standard time | O44: 12sec (CT=12sec)
A45: ME | B45: ='Insert thermal pad and led pad '!B40 -> Nguyễn Quang Huy | C45: ='Insert thermal pad and led pad '!C40 -> 0354644354

Sheet Put BOT case & Screw A 
A1: FOXCONN INDUSTRIAL INTERNET CO.,LTD
A2: 標準作業規范 QUI ĐỊNH THAO TÁC TIÊU CHUẨN
A3: 適用產品 Sản phẩm | B3: T99X171.00 (BFX-AT100) | C3: 工站名稱 Công đoạn | D3: Put BOT case & Screw Lắp nắp dưới & Vít ốc | F3: 規 範 編 號 Mã tài liệu | H3: SOP-NV-AM646B1-01 | K3: 版次 Phiên bản | N3: G | O3: 頁次 Trang | P3: 5-A
A4: ※ 使用設備(治工具)Thiết bị, dụng cụ | F4: ※ 圖示 Hình minh họa:
A5: STT | B5: 使用設備(治工具) Thiết bị, dụng cụ | C5: 編號 Mã | D5: Q'ty | E5: 備註 Chú thích
A6: 1 | B6: Csrew-auto machine Máy tự động bắt vít | C6: NA | D6: 1 | E6: Electric Screwdriver: Lực xoắn của máy bắt vít: 3.5-4.0kg.cm
A7: 2 | B7: Screw head Đầu bắt vít | C7: NA | D7: 1 | E7: Screw head Mã dụng cụ đầu bắt vít : A-21619-001-A-GW.
A8: 3 | B8: Csrew out manchine Máy nhả vít | C8: NA | D8: 1 | E8: NA
A9: 4 | B9: Ion Fan Quạt Ion | C9: NA | D9: 1 | E9: NA
A10: ※作業步驟 Nội dung thao tác
A11: 1. Take housing installed PCBA, check and ensure that have no broken components, damaged… (H1)
A12: Check ports and ensure that have no dirt
A13: Lấy bản đã lắp PCBA lên kiểm tra, xác nhận không có hiện tượng hư hại, vỡ linh kiện,… (H1)
A14: Kiểm tra cổng kết nối có bị bẩn hay biến dạng không.
A15: 2. Take the bottom case (H2), visually inspect and ensure that have no disformed detects, ….
A16: If it is NG, stick the marked tapeand separate on the NG area.
A17: Peel off the MAC label and apply on the outside of housing as H2
A18: Put OK bottom case into top case, if hearing a strange sound when pressing on product is ok.
A19: Pay attention: 4 angles must match each other.
A20: Lấy nắp vỏ dưới (H2), kiểm tra ngoại quan không bị lỗi, xước, biến dạng, màu khác thường.
A21: Nếu có, dán biểu thị lỗi và để ra khu vực sản phẩm lỗi. Bóc MAC Label dán nổi ra ngoài housing như H.2.
... A44: 3. Owner/ Kĩ sư phụ trách
A45: 部門 Bộ phận | B45: 名稱 Tên kĩ sư phụ trách | C45: 聯絡方式 Phương thức liên lạc | F45: ※ 使用材料(零件明細表) Bảng chi tiết các vật liệu sử dụng
G46: P/N | J46: Specification | N46: Q'ty | O46: Class
A47: IE | B47: ='Put PCBA Into TOP case'!B43 -> Nguyễn Thị Yến | C47: ='Put PCBA Into TOP case'!C43 -> 0337278797 | F47: 1 | G47: 401.01274.005 | J47: SCREW TAP PAN M2.5 8mm REV.00 GP | N47: 2 | O47: Screw. Ốc vít
A48: PQE | B48: ='Put PCBA Into TOP case'!B44 -> Nguyễn Thị Hằng | C48: ='Put PCBA Into TOP case'!C44 -> 0335578615 | F48: 2 | G48: 442.00630.005 | J48: BOTTOM CASE 90.79*90.79*7.49mm REV.0 | N48: 1 | O48: Bottom case. Vỏ dưới
A49: ME | B49: ='Put PCBA Into TOP case'!B45 -> Nguyễn Quang Huy | C49: ='Put PCBA Into TOP case'!C45 -> 0354644354 | L49: Standard time | O49: 12sec (CT=12sec)

Sheet Put BOT case & Screw B
A1: FOXCONN INDUSTRIAL INTERNET CO.,LTD
A2: 標準作業規范 QUI ĐỊNH THAO TÁC TIÊU CHUẨN
A3: 適用產品 Sản phẩm | B3: T99X171.00 (BFX-AT100) | C3: 工站名稱 Công đoạn | D3: Put BOT case & Screw Lắp nắp dưới & Vít ốc | F3: 規 範 編 號 Mã tài liệu | H3: SOP-NV-AM646B1-01 | K3: 版次 Phiên bản | N3: G | O3: 頁次 Trang | P3: 5-B
A4: ※ 使用設備(治工具)Thiết bị, dụng cụ | F4: ※ 圖示 Hình minh họa:
A5: STT | B5: 使用設備(治工具) Thiết bị, dụng cụ | C5: 編號 Mã | D5: Q'ty | E5: 備註 Chú thích
A6: 1 | B6: Csrew-machine Máy bắt vít | C6: NA | D6: 1 | E6: Electric Screwdriver.Lực bắt vít khi bắt vít vỏ dưới là: 3.5~4.0(Kgf/cm)
A7: 2 | B7: Csrew out manchine Máy nhả vít | C7: NA | D7: 1 | E7: NA
A8: 3 | B8: Screw head apricot blossom Đầu vít hoa mai | C8: NA | D8: 1 | E8: T10D5.0 X 60Lxd3.0(mm) (H.4)
A9: 4 | B9: Fixture screw Khuôn bắt vít | C9: A-21619-XXX-A | D9: 1 | E9: NA
A10: 5 | B10: Ion Fan Quạt ion | C10: NA | D10: 1 | E10: NA
A11: ※作業步驟 Nội dung thao tác
A12: 1. Take housing installed PCBA, check and ensure that have no broken components, damaged…
A13: Check ports and ensure that have no dirt (H.1)
A14: Lấy bản đã lắp PCBA lên kiểm tra, xác nhận không có hiện tượng hư hại, vỡ linh kiện,…
A15: Kiểm tra cổng kết nối có bị bẩn hay biến dạng không. (H.1)
A16: 2. Take the bottom case (H2), visually inspect and ensure that have no disformed detects, ….
A17: If it is NG, stick the marked tapeand separate on the NG area.
A18: Peel off the MAC label and apply on the outside of housing as H2. Put OK bottom case into top case,
A19: if hearing a strange sound when pressing on product is ok. Pay attention: 4 angles must match each other.
A20: Lấy nắp vỏ dưới (H2), kiểm tra ngoại quan không bị lỗi, xước, biến dạng, màu khác thường.
A21: Nếu có, dán biểu thị lỗi và để ra khu vực sản phẩm lỗi. Bóc MAC Label dán nổi ra ngoài housing như H.2.
A22: Kiểm tra OK, lấy vỏ dưới lắp vào vỏ trên, xác nhận phát ra tiếng "cạch" tức đã lắp OK.
... A38: 4. Owner/ Kĩ sư phụ trách
A39: 部門 Bộ phận | B39: 名稱 Tên kĩ sư phụ trách | C39: 聯絡方式 Phương thức liên lạc | F39: ※ 使用材料(零件明細表) Bảng chi tiết các vật liệu sử dụng
G40: P/N | J40: Specification | N40: Q'ty | O40: Class
A41: IE | B41: ='Put BOT case & Screw A '!B47 -> Nguyễn Thị Yến | C41: ='Put BOT case & Screw A '!C47 -> 0337278797 | F41: 1 | G41: 401.01274.005 | J41: SCREW TAP PAN M2.5 8mm REV.00 GP | N41: 2 | O41: Screw. Ốc vít
A42: PQE | B42: ='Put BOT case & Screw A '!B48 -> Nguyễn Thị Hằng | C42: ='Put BOT case & Screw A '!C48 -> 0335578615 | F42: 2 | G42: 442.00630.005 | J42: BOTTOM CASE 90.79*90.79*7.49mm REV.0 | N42: 1 | O42: Bottom case. Vỏ dưới
A43: ME | B43: ='Put BOT case & Screw A '!B49 -> Nguyễn Quang Huy | C43: ='Put BOT case & Screw A '!C49 -> 0354644354 | L43: Standard time | N43: 12sec (CT=12sec)

Sheet Insert protect film
A1: FOXCONN INDUSTRIAL INTERNET CO.,LTD
A2: 標準作業規范 QUI ĐỊNH THAO TÁC TIÊU CHUẨN
A3: 適用產品 Sản phẩm | B3: T99X171.00 (BFX-AT100) | C3: 工站名稱 Công đoạn | D3: Insert protect film Dán băng bảo vệ | F3: 規 範 編 號 Mã tài liệu | H3: SOP-NV-AM646B1-01 | K3: 版次 Phiên bản | N3: G | O3: 頁次 Trang | P3: 6
A4: ※ 使用設備(治工具)Thiết bị, dụng cụ | F4: ※ 圖示 Hình minh họa:
A5: STT | B5: 使用設備(治工具) Thiết bị, dụng cụ | C5: 編號 Mã | D5: Q'ty | E5: 備註 Chú thích
A6: 1 | B6: Block protective tape Khuôn băng bảo vệ | C6: A-99171-XXX-A | D6: 1 | E6: NA
A7: 2 | B7: Knife Dao an toàn | C7: NA | D7: 1 | E7: H6
A8: ※作業步驟 Nội dung thao tác
A9: 1. Take the product from line and visually inspect Housing was screw enough-2pcs,
A10: and must not be floated. (H.1)
A11: If have detects, stick the marked label, and separate on the NG area.
A12: Từ chuyền lấy sản phẩm đã được vít ốc, kiểm tra ốc vít phải vít đúng; đủ- 2 ốc và không bị nổi cao
A13: không bị lỗi xước, màu khác thường, không bị biến dạng, ngoại quan không bị lỗi. (H.1)
A14: Nếu có, dán biểu thị lỗi và để ra khu vực sản phẩm lỗi.
A15: 2. Take out and stick SN label on the side of fixture as H.2. Place the product on the fixture as H2.
A16: Use film protective cover the bottom cover. Use safety knife to cut (H6)
A17: Bóc tem SN label và dán lên vị trí khác như H.2. Đặt bản vào vị trí như H.2 minh họa.
A18: Kéo màng bọc, bọc kín nắp dưới, sau đó dùng dao an toàn (H6) cắt băng bảo vệ.
A19: 3. Stick SN label on bottom case as H.3. Dán lại SN label vào vị trí mặt dưới như H.3
... A32: 3. Owner/ Kĩ sư phụ trách
A33: 部門 Bộ phận | B33: 名稱 Tên kĩ sư phụ trách | C33: 聯絡方式 Phương thức liên lạc
F34: ※ 使用材料(零件明細表) Bảng chi tiết các vật liệu sử dụng
A35: IE | B35: ='Put BOT case & Screw B'!B41 -> Nguyễn Thị Yến | C35: ='Put BOT case & Screw B'!C41 -> 0337278797 | G35: P/N | J35: Specification | O35: Q'ty | P35: Class
A36: PQE | B36: ='Put BOT case & Screw B'!B42 -> Nguyễn Thị Hằng | C36: ='Put BOT case & Screw B'!C42 -> 0335578615 | F36: 1 | G36: 475.00746.005 | J36: FILM PROTECTIVE PE REV.00 200000*100 | O36: 0.00069 | P36: Màng PE
A37: ME | B37: ='Put BOT case & Screw B'!B43 -> Nguyễn Quang Huy | C37: ='Put BOT case & Screw B'!C43 -> 0354644354 | L37: Standard time | O37: 12sec (CT=12sec)

Sheet Flow-chart
A1: FOXCONN INDUSTRIAL INTERNET CO.,LTD
A2: 標準作業規范 QUI ĐỊNH THAO TÁC TIÊU CHUẨN
A3: 適用產品 Sản phẩm | B3: T99X171.00 Lead Free | C3: 工站名稱 Công đoạn | D3: Flow-chart Lưu trình | E3: 規 範 編 號 Mã tài liệu | F3: SOP-NV-AM646B1-01 | H3: 版次 Phiên bản | I3: G | J3: 頁次 Trang | K3: 7
